BEGIN:VCALENDAR
VERSION:2.0
CALSCALE:GREGORIAN
METHOD:PUBLISH
X-WR-TIMEZONE:Australia/Sydney
BEGIN:VTIMEZONE
TZID:Australia/Sydney
BEGIN:STANDARD
TZNAME:AEST
DTSTART:19700101T000000
TZOFFSETFROM:+1100
TZOFFSETTO:+1000
END:STANDARD
END:VTIMEZONE
BEGIN:VEVENT
DTSTART;TZID=Australia/Sydney:20241120T093000
DTEND;TZID=Australia/Sydney:20241120T001500
DTSTAMP:20260420T165211
UID:117
SUMMARY:Prep 2025 Transition 
DESCRIPTION:




Prep 2025 Transition Session 39:30am - 10:15am - 3 sessions11:45am - 12:15pm - 3 sessionsBookings are required&amp;nbsp;


SEQUENCE:0
STATUS:CONFIRMED
TRANSP:OPAQUE
END:VEVENT
END:VCALENDAR